BEGIN:VCALENDAR
VERSION:2.0
PRODID:-//ChamberMaster//Event Calendar 2.0//EN
METHOD:PUBLISH
X-PUBLISHED-TTL:P1H
REFRESH-INTERVAL:P1H
CALSCALE:GREGORIAN
BEGIN:VTIMEZONE
TZID:America/Denver
BEGIN:DAYLIGHT
RRULE:FREQ=YEARLY;BYMONTH=3;BYDAY=2SU
DTSTART:20070101T000000
TZOFFSETFROM:-0700
TZOFFSETTO:-0600
TZNAME:Mountain Daylight Time
END:DAYLIGHT
BEGIN:STANDARD
RRULE:FREQ=YEARLY;BYMONTH=11;BYDAY=1SU
DTSTART:20070101T000000
TZOFFSETFROM:-0600
TZOFFSETTO:-0700
TZNAME:Mountain Standard Time
END:STANDARD
END:VTIMEZONE
BEGIN:VEVENT
DTSTART;TZID=America/Denver:20260526T180000
DTEND;TZID=America/Denver:20260527T210000
X-MICROSOFT-CDO-ALLDAYEVENT:FALSE
SUMMARY:NeighborWorks® Boise's Homebuyer Education Class
DESCRIPTION:NeighborWorks® Boise's Homebuyer Education course is ideal for homebuyers who will be purchasing within one year or are currently in escrow.\nKey information on budgeting\, credit lending\, real estate\, inspections\, insurance\, and down payment programs are presented.\nThe monthly 6-hour course is held in-person.\nThe course is led by a HUD-certified counselor and industry professionals. The course material covers:\n- Budgeting\n- Understanding Credit\n- Home Ownership Readiness\n- Available Loans\n- Shopping for a Home\n- Purchasing Costs\n- Hiring a Home Inspector\n- Closing Process\nHOW TO REGISTER:\n(1) Visit Finally Home!® Website (Click Here: https://www.finallyhome.org/en/student-registration/)
X-ALT-DESC;FMTTYPE=text/html:NeighborWorks® Boise's Homebuyer Education course is ideal for homebuyers who will be purchasing within one year or are currently in escrow.\nKey information on budgeting\, credit lending\, real estate\, inspections\, insurance\, and down payment programs are presented.\nThe monthly 6-hour course is held in-person.\nThe course is led by a HUD-certified counselor and industry professionals. The course material covers:\n- Budgeting\n- Understanding Credit\n- Home Ownership Readiness\n- Available Loans\n- Shopping for a Home\n- Purchasing Costs\n- Hiring a Home Inspector\n- Closing Process\nHOW TO REGISTER:\n(1) Visit Finally Home!® Website (Click Here: https://www.finallyhome.org/en/student-registration/)
LOCATION:3380 W Americana Terrace Suite 120 Boise ID 83706
UID:e.4314.1444860
SEQUENCE:3
DTSTAMP:20260423T221232Z
URL:https://business.kunachamber.org/eventcalendar/Details/neighborworks-boise-s-homebuyer-education-class-1711278?sourceTypeId=Hub
END:VEVENT
END:VCALENDAR
